BEGIN:VCALENDAR
VERSION:2.0
PRODID:-//eventon.com NONSGML v1.0//EN
CALSCALE:GREGORIAN
METHOD:PUBLISH
BEGIN:VEVENT
UID:69e5f0617f9d8
DTSTAMP:20260420T092241Z
DTSTART:20250226T163000Z
DTEND:20250226T200000Z
LOCATION:
SUMMARY:HS2: Beyond Curzon Street and Interchange
DESCRIPTION:&nbsp; Join the Centre for the New Midlands for the next of our
  key conversations; HS2: Beyond Curzon Street and Interchange. When HS2 is 
 discussed\,  much of the focus is understandably on the two big stations be
 ing developed and the cost of the project. This event is designed to explor
 e[..]\nhttps://www.thenewmidlands.org.uk/events/hs2-beyond-curzon/
URL:https://www.thenewmidlands.org.uk/events/hs2-beyond-curzon/
END:VEVENT
END:VCALENDAR