BEGIN:VCALENDAR
VERSION:2.0
PRODID:-//eventon.com NONSGML v1.0//EN
CALSCALE:GREGORIAN
METHOD:PUBLISH
BEGIN:VEVENT
UID:69e8a04633069
DTSTAMP:20260422T101742Z
DTSTART:20240923T193000Z
DTEND:20240923T213000Z
LOCATION:
SUMMARY:CNM @ Flight Club - Labour Party conference
DESCRIPTION:Join the Centre for the New Midlands and 10 of our other key pa
 rtners for an evening of darts at the recently opened Flight Club Liverpool
 \,  located at Liverpool One. After a full day at Labour Party conference\,
   we felt it would be a good idea to let our hair[..]\nhttps://www.thenewmi
 dlands.org.uk/events/flight-club-labourpartyconf/
URL:https://www.thenewmidlands.org.uk/events/flight-club-labourpartyconf/
END:VEVENT
END:VCALENDAR