BEGIN:VCALENDAR
VERSION:2.0
PRODID:-//eventon.com NONSGML v1.0//EN
CALSCALE:GREGORIAN
METHOD:PUBLISH
BEGIN:VEVENT
UID:69e5f1c6ded7b
DTSTAMP:20260420T092838Z
DTSTART:20221108T100000Z
DTEND:20221108T110000Z
LOCATION:
SUMMARY:Levelling Up: Shared Challenges for UK Cities
DESCRIPTION:The levelling up agenda creates both opportunities and challeng
 es for city leaders across the UK: what is the role of our urban areas in r
 educing geographic inequality? How should they relate to the places around 
 them? And what can they learn from each other? On Tuesday 8th November\,  w
 e partnered[..]\nhttps://www.thenewmidlands.org.uk/events/levellingup-uk-ci
 ties/
URL:https://www.thenewmidlands.org.uk/events/levellingup-uk-cities/
END:VEVENT
END:VCALENDAR