BEGIN:VCALENDAR
VERSION:2.0
PRODID:-//eventon.com NONSGML v1.0//EN
CALSCALE:GREGORIAN
METHOD:PUBLISH
BEGIN:VEVENT
UID:69e74e3c6094c
DTSTAMP:20260421T101524Z
DTSTART:20221014T120000Z
DTEND:20221014T140000Z
LOCATION:
SUMMARY:Midlands Rail Hub - The Key to Regional Growth?
DESCRIPTION:Midlands Rail Hub - The Key to Regional Growth?\nhttps://www.th
 enewmidlands.org.uk/events/midlands-rail-hub/
URL:https://www.thenewmidlands.org.uk/events/midlands-rail-hub/
END:VEVENT
END:VCALENDAR